BEGIN:VCALENDAR
VERSION:2.0
PRODID:-//J and J RV Park - ECPv6.15.20//NONSGML v1.0//EN
CALSCALE:GREGORIAN
METHOD:PUBLISH
X-WR-CALNAME:J and J RV Park
X-ORIGINAL-URL:https://jandjrvpark.com
X-WR-CALDESC:Events for J and J RV Park
REFRESH-INTERVAL;VALUE=DURATION:PT1H
X-Robots-Tag:noindex
X-PUBLISHED-TTL:PT1H
BEGIN:VTIMEZONE
TZID:America/Chicago
BEGIN:DAYLIGHT
TZOFFSETFROM:-0600
TZOFFSETTO:-0500
TZNAME:CDT
DTSTART:20220313T080000
END:DAYLIGHT
BEGIN:STANDARD
TZOFFSETFROM:-0500
TZOFFSETTO:-0600
TZNAME:CST
DTSTART:20221106T070000
END:STANDARD
BEGIN:DAYLIGHT
TZOFFSETFROM:-0600
TZOFFSETTO:-0500
TZNAME:CDT
DTSTART:20230312T080000
END:DAYLIGHT
BEGIN:STANDARD
TZOFFSETFROM:-0500
TZOFFSETTO:-0600
TZNAME:CST
DTSTART:20231105T070000
END:STANDARD
BEGIN:DAYLIGHT
TZOFFSETFROM:-0600
TZOFFSETTO:-0500
TZNAME:CDT
DTSTART:20240310T080000
END:DAYLIGHT
BEGIN:STANDARD
TZOFFSETFROM:-0500
TZOFFSETTO:-0600
TZNAME:CST
DTSTART:20241103T070000
END:STANDARD
END:VTIMEZONE
BEGIN:VEVENT
DTSTART;TZID=America/Chicago:20230513T070000
DTEND;TZID=America/Chicago:20230513T170000
DTSTAMP:20260424T120131
CREATED:20230318T163122Z
LAST-MODIFIED:20230318T163122Z
UID:438-1683961200-1683997200@jandjrvpark.com
SUMMARY:Kanab 10K
DESCRIPTION:The Kanab 10k is one of the most beautiful runs in the world! All participants will receive a swag bag and race shirt! Winners will receive one-of-a kind trophies!
URL:https://jandjrvpark.com/event/kanab-10k/
END:VEVENT
BEGIN:VEVENT
DTSTART;VALUE=DATE:20230512
DTEND;VALUE=DATE:20230514
DTSTAMP:20260424T120131
CREATED:20230318T154712Z
LAST-MODIFIED:20230318T154712Z
UID:436-1683849600-1684022399@jandjrvpark.com
SUMMARY:Ragnar Trail Zion
DESCRIPTION:Ragnar Trail Zion \nThe Trail relay that inspired the entire series is back! Grab your most adventurous friends and join us May 12-13 to run\, relay-style\, over two days and one star-filled night!
URL:https://jandjrvpark.com/event/ragnar-trail-zion/
END:VEVENT
BEGIN:VEVENT
DTSTART;VALUE=DATE:20230504
DTEND;VALUE=DATE:20230505
DTSTAMP:20260424T120131
CREATED:20230318T154349Z
LAST-MODIFIED:20230318T154349Z
UID:434-1683158400-1683244799@jandjrvpark.com
SUMMARY:Sighthound Shivoo
DESCRIPTION:Sighthoud Shivoo\, Greyhound Gang \nThis 3 plus-day celebration and FUN-draising event features Blur of Fur\, Costume Sidewalk Strut\, Yappy Hour\, HGT- Hounds Got Talent\, Best Friends Tours\, Live &Silent Auctions\, Grab Bags\, Wheel of Fortune\, Speakers\, Bunny Battle\, Food\, Fun and Frolic\, Fantastic Meals and Shopping
URL:https://jandjrvpark.com/event/sighthound-shivoo/
END:VEVENT
BEGIN:VEVENT
DTSTART;VALUE=DATE:20230427
DTEND;VALUE=DATE:20230501
DTSTAMP:20260424T120131
CREATED:20230316T231746Z
LAST-MODIFIED:20230316T231746Z
UID:428-1682553600-1682899199@jandjrvpark.com
SUMMARY:Kanab Film Festival
DESCRIPTION:Redstone Theatre- 29 W Center St. \nKanab Film Fest will hold their annal Film Festival from April 27th-30th. Attendees will get to see the very best films from students and professionals from all over the world. \nTickets can be purchased through KanabFilm.com
URL:https://jandjrvpark.com/event/kanab-film-festival/
END:VEVENT
BEGIN:VEVENT
DTSTART;VALUE=DATE:20230426
DTEND;VALUE=DATE:20230430
DTSTAMP:20260424T120131
CREATED:20230316T230004Z
LAST-MODIFIED:20230316T230004Z
UID:426-1682467200-1682812799@jandjrvpark.com
SUMMARY:Red Rock Atv Jamboree
DESCRIPTION:Join us for the 2023 Red Rock Jamboree in Kanab\, Utah \nThe Ut/AZ ATV club’s Red Rock Jamboree will take place April 26th-29th in the heart of Red Rock County. Sign up for 3 days of ridding choosing from 15 rides per day. Registration includes guided rides\, an ice cream social\, t-shirt\, 3 breakfast\, 2 dinners and a chance to win great raffle prizes.
URL:https://jandjrvpark.com/event/red-rock-atv-jamboree/
END:VEVENT
BEGIN:VEVENT
DTSTART;TZID=America/Chicago:20230415T120000
DTEND;TZID=America/Chicago:20230415T170000
DTSTAMP:20260424T120131
CREATED:20230316T232209Z
LAST-MODIFIED:20230316T232246Z
UID:430-1681560000-1681578000@jandjrvpark.com
SUMMARY:Soup Town Days
DESCRIPTION:” Soup Town Days” \nCome and Experience Orderville’s Amazing Heritage! \nSaturday\, April 15\, 2023- Free dinner 2-5pm
URL:https://jandjrvpark.com/event/soup-town-days/
END:VEVENT
BEGIN:VEVENT
DTSTART;TZID=America/Chicago:20230401T100000
DTEND;TZID=America/Chicago:20230401T170000
DTSTAMP:20260424T120131
CREATED:20230316T225422Z
LAST-MODIFIED:20230316T225422Z
UID:424-1680343200-1680368400@jandjrvpark.com
SUMMARY:Pink Sand Dunes Egg Hunt
DESCRIPTION:Coral Pink Sand Dunes State park and Kane County are “egg”cited to host the third annual Easter egg hunt! \n\nTwo times available\, Please only attend one\nThe observation deck area\n25 Eggs per kid\nLimited parking ( Car pool if possible)https://visitsouthernutah.com/events/coral-pink-sand-dunes-egg-hunt/\n\n 
URL:https://jandjrvpark.com/event/pink-sand-dunes-egg-hunt/
END:VEVENT
BEGIN:VEVENT
DTSTART;TZID=America/Chicago:20230318T080000
DTEND;TZID=America/Chicago:20230318T170000
DTSTAMP:20260424T120131
CREATED:20230318T165235Z
LAST-MODIFIED:20230318T165235Z
UID:442-1679126400-1679158800@jandjrvpark.com
SUMMARY:North Rim Grand Canyon Opens
DESCRIPTION:A worthwhile trip for those who enjoy the road less traveled\, the North Rim\, or ” other side” of Grand Canyon is visited by only 10% of all Grand Canyon visitors.
URL:https://jandjrvpark.com/event/north-rim-grand-canyon-opens/
END:VEVENT
BEGIN:VEVENT
DTSTART;TZID=America/Chicago:20230318T080000
DTEND;TZID=America/Chicago:20230318T170000
DTSTAMP:20260424T120131
CREATED:20230318T165002Z
LAST-MODIFIED:20230318T165002Z
UID:440-1679126400-1679158800@jandjrvpark.com
SUMMARY:Amazing Earthfest.
DESCRIPTION:Amazing EarthFest enables people to experience\, appreciates and connect with Earth’s natural systems\, enjoy high caliber creative and performing arts\, outdoor learning\, discovery and adventures.
URL:https://jandjrvpark.com/event/amazing-earthfest/
END:VEVENT
END:VCALENDAR